BEGIN:VCALENDAR
VERSION:2.0
PRODID:-//IBEW International Brotherhood of Electrical Workers Local 569 - ECPv6.15.13//NONSGML v1.0//EN
CALSCALE:GREGORIAN
METHOD:PUBLISH
X-ORIGINAL-URL:https://www.ibew569.org
X-WR-CALDESC:Events for IBEW International Brotherhood of Electrical Workers Local 569
REFRESH-INTERVAL;VALUE=DURATION:PT1H
X-Robots-Tag:noindex
X-PUBLISHED-TTL:PT1H
BEGIN:VTIMEZONE
TZID:America/Los_Angeles
BEGIN:DAYLIGHT
TZOFFSETFROM:-0800
TZOFFSETTO:-0700
TZNAME:PDT
DTSTART:20150308T100000
END:DAYLIGHT
BEGIN:STANDARD
TZOFFSETFROM:-0700
TZOFFSETTO:-0800
TZNAME:PST
DTSTART:20151101T090000
END:STANDARD
BEGIN:DAYLIGHT
TZOFFSETFROM:-0800
TZOFFSETTO:-0700
TZNAME:PDT
DTSTART:20160313T100000
END:DAYLIGHT
BEGIN:STANDARD
TZOFFSETFROM:-0700
TZOFFSETTO:-0800
TZNAME:PST
DTSTART:20161106T090000
END:STANDARD
BEGIN:DAYLIGHT
TZOFFSETFROM:-0800
TZOFFSETTO:-0700
TZNAME:PDT
DTSTART:20170312T100000
END:DAYLIGHT
BEGIN:STANDARD
TZOFFSETFROM:-0700
TZOFFSETTO:-0800
TZNAME:PST
DTSTART:20171105T090000
END:STANDARD
END:VTIMEZONE
BEGIN:VEVENT
DTSTART;TZID=America/Los_Angeles:20160611T100000
DTEND;TZID=America/Los_Angeles:20160611T140000
DTSTAMP:20260422T184332
CREATED:20160607T181900Z
LAST-MODIFIED:20220713T023947Z
UID:10000429-1465639200-1465653600@www.ibew569.org
SUMMARY:2nd Annual Apprenticeship Career Fair
DESCRIPTION:Assemblymember Shirley Weber\, PH.D. in partnership with the San Diego County Building & Construction Trades Council and our EWMC Chapter invite you to: \nTHE 2ND ANNUAL 79TH DISTRICT APPRENTICESHIP INFORMATIONAL CAREER FAIR \nCome meet the San Diego County Building & Construction Trades Council and its affiliated Unions to learn about excellent Apprenticeship Programs\, career opportunities\, and your ability to ‘learn while you earn.’ \nSATURDAY\, JUNE 11th\, 2016 \n10:00am to 2:00pm \nJacobs Center\, Main Exhibit Hall \n404 Euclid Avenue\, San Diego 92114
URL:https://www.ibew569.org/calendar/calendar-2nd-annual-apprenticeship-career-fair/
LOCATION:CA
CATEGORIES:IBEW 569 Members
ATTACH;FMTTYPE=image/jpeg:https://www.ibew569.org/wp-content/uploads/2022/07/apprenticeship_fair.jpg
END:VEVENT
BEGIN:VEVENT
DTSTART;TZID=America/Los_Angeles:20160618T100000
DTEND;TZID=America/Los_Angeles:20160618T160000
DTSTAMP:20260422T184332
CREATED:20160330T212100Z
LAST-MODIFIED:20220713T023945Z
UID:10000422-1466244000-1466265600@www.ibew569.org
SUMMARY:IBEW 569 Annual Picnic
DESCRIPTION:Annual IBEW 569 Picnic for our Members and Families! \nSaturday\, June 18\, 2016\nSantee Lakes #5\n9310 Fanita Parkway\nSantee\, CA 92071\n10:00am – 4:00pm \nClick here to RSVP so we know how much food and beer to order! \nHundreds of IBEW 569 members and their families will attend our picnic for a full day of fun\, food\, and sun! \nWhat was your favorite part? Sno-cones\, the water balloon toss\, raffles\, catching up with friends and family…? \n– Must bring dues receipt to be eligible for prizes!\n– No dogs allowed!\n– The entrance fee is $5.00 per vehicle – cash only!\n– Bring chairs\, canopies\, and blankets as seating is limited!
URL:https://www.ibew569.org/calendar/calendar-ibew-569-annual-picnic-0/
LOCATION:Santee Lakes
CATEGORIES:IBEW 569 Members
ATTACH;FMTTYPE=image/jpeg:https://www.ibew569.org/wp-content/uploads/2022/07/1039613_10153097647594615_4596866941910788230_o-scaled.jpg
END:VEVENT
END:VCALENDAR