BEGIN:VCALENDAR
VERSION:2.0
PRODID:-//IBEW International Brotherhood of Electrical Workers Local 569 - ECPv6.15.13//NONSGML v1.0//EN
CALSCALE:GREGORIAN
METHOD:PUBLISH
X-ORIGINAL-URL:https://www.ibew569.org
X-WR-CALDESC:Events for IBEW International Brotherhood of Electrical Workers Local 569
REFRESH-INTERVAL;VALUE=DURATION:PT1H
X-Robots-Tag:noindex
X-PUBLISHED-TTL:PT1H
BEGIN:VTIMEZONE
TZID:America/Los_Angeles
BEGIN:DAYLIGHT
TZOFFSETFROM:-0800
TZOFFSETTO:-0700
TZNAME:PDT
DTSTART:20210314T100000
END:DAYLIGHT
BEGIN:STANDARD
TZOFFSETFROM:-0700
TZOFFSETTO:-0800
TZNAME:PST
DTSTART:20211107T090000
END:STANDARD
BEGIN:DAYLIGHT
TZOFFSETFROM:-0800
TZOFFSETTO:-0700
TZNAME:PDT
DTSTART:20220313T100000
END:DAYLIGHT
BEGIN:STANDARD
TZOFFSETFROM:-0700
TZOFFSETTO:-0800
TZNAME:PST
DTSTART:20221106T090000
END:STANDARD
BEGIN:DAYLIGHT
TZOFFSETFROM:-0800
TZOFFSETTO:-0700
TZNAME:PDT
DTSTART:20230312T100000
END:DAYLIGHT
BEGIN:STANDARD
TZOFFSETFROM:-0700
TZOFFSETTO:-0800
TZNAME:PST
DTSTART:20231105T090000
END:STANDARD
END:VTIMEZONE
BEGIN:VEVENT
DTSTART;TZID=America/Los_Angeles:20221105T080000
DTEND;TZID=America/Los_Angeles:20221105T113000
DTSTAMP:20260422T185055
CREATED:20220929T172645Z
LAST-MODIFIED:20220929T172645Z
UID:10000636-1667635200-1667647800@www.ibew569.org
SUMMARY:Imperial Valley WALK to WIN with IBEW 569
DESCRIPTION:Join IBEW 569 and the Labor Council to WALK TO WIN more work by helping to elect candidates that support Unions! \nWe are walking every Saturday from October 1st thru November 8th (Election Day) at 8:00am from our IBEW 569 IV Hall: 2420 Imperial Business Park Dr\, Imperial\, CA 92251. \nJoin us!  Contact Hector Meza for questions or to RSVP: 858-302-7569 or hmeza@ibew569.org.
URL:https://www.ibew569.org/calendar/imperial-valley-walk-to-win-with-ibew-569/2022-11-05/
LOCATION:IBEW 569 Imperial County
CATEGORIES:IBEW 569 Members,Take Action
ATTACH;FMTTYPE=image/png:https://www.ibew569.org/wp-content/uploads/2022/07/fist.png
END:VEVENT
BEGIN:VEVENT
DTSTART;TZID=America/Los_Angeles:20221105T080000
DTEND;TZID=America/Los_Angeles:20221105T113000
DTSTAMP:20260422T185055
CREATED:20221010T194943Z
LAST-MODIFIED:20221010T194943Z
UID:10000644-1667635200-1667647800@www.ibew569.org
SUMMARY:IBEW 569 - GET OUT THE VOTE - for Yes on D / SAFEGUARD SD
DESCRIPTION:We need 40 IBEW 569 volunteers for this event – our weekend toward winning our campaigns in 2022! \nJoin the San Diego County Building Trades and the Labor Council this Saturday and make a difference in the lives of working families across our communities – and help elect candidates that support more working families! See you on Saturday! \nWHAT: GET OUT THE VOTE Yes on D / SAFEGUARD SD Lit Drop and Help Elect Friends of Labor \nDATE AND TIME: Saturday\, November 5th | 8:00am-11:30am \nLOCATION: Standley Park\, 3585 Governor Dr\, San Diego\, CA 92122 \nRSVP: bit.ly/11-5-22-SDBT \nContact: Gretchen Newsom\, IBEW 569\, 619-208-4853 cell or gnewsom@ibew569.org \nWe will provide: \n• Training on how to do a lit drop \n• Lunch \n• A raffle for San Diego Building Trades gear\, and more!
URL:https://www.ibew569.org/calendar/ibew-569-get-out-the-vote-for-yes-on-d-safeguard-sd/
LOCATION:CA
CATEGORIES:IBEW 569 Members,Take Action
ATTACH;FMTTYPE=image/jpeg:https://www.ibew569.org/wp-content/uploads/2022/10/2022-SD-BT-Election-Flyers-3.jpg
END:VEVENT
END:VCALENDAR