BEGIN:VCALENDAR
VERSION:2.0
PRODID:-//IBEW International Brotherhood of Electrical Workers Local 569 - ECPv6.15.13//NONSGML v1.0//EN
CALSCALE:GREGORIAN
METHOD:PUBLISH
X-ORIGINAL-URL:https://www.ibew569.org
X-WR-CALDESC:Events for IBEW International Brotherhood of Electrical Workers Local 569
REFRESH-INTERVAL;VALUE=DURATION:PT1H
X-Robots-Tag:noindex
X-PUBLISHED-TTL:PT1H
BEGIN:VTIMEZONE
TZID:America/Los_Angeles
BEGIN:DAYLIGHT
TZOFFSETFROM:-0800
TZOFFSETTO:-0700
TZNAME:PDT
DTSTART:20210314T100000
END:DAYLIGHT
BEGIN:STANDARD
TZOFFSETFROM:-0700
TZOFFSETTO:-0800
TZNAME:PST
DTSTART:20211107T090000
END:STANDARD
BEGIN:DAYLIGHT
TZOFFSETFROM:-0800
TZOFFSETTO:-0700
TZNAME:PDT
DTSTART:20220313T100000
END:DAYLIGHT
BEGIN:STANDARD
TZOFFSETFROM:-0700
TZOFFSETTO:-0800
TZNAME:PST
DTSTART:20221106T090000
END:STANDARD
BEGIN:DAYLIGHT
TZOFFSETFROM:-0800
TZOFFSETTO:-0700
TZNAME:PDT
DTSTART:20230312T100000
END:DAYLIGHT
BEGIN:STANDARD
TZOFFSETFROM:-0700
TZOFFSETTO:-0800
TZNAME:PST
DTSTART:20231105T090000
END:STANDARD
END:VTIMEZONE
BEGIN:VEVENT
DTSTART;TZID=America/Los_Angeles:20220905T080000
DTEND;TZID=America/Los_Angeles:20220905T080000
DTSTAMP:20260423T212648
CREATED:20211228T190800Z
LAST-MODIFIED:20220712T162718Z
UID:10000542-1662364800-1662364800@www.ibew569.org
SUMMARY:IBEW 569 Holiday - Labor Day
DESCRIPTION:Below are our 2022 IBEW 569 Holidays. If you work on one these holidays\, you will earn double pay (2x your regular rate of pay). Please refer to your Agreement for additional details. \n\n\n\nHOLIDAY\nDATE\n\n\n\n\n\n\nNEW YEAR’S DAY \n12/31/2021 \n\n\nMARTIN LUTHER KING DAY* \n1/17/2022 \n\n\nPRESIDENTS DAY** \n2/21/2022 \n\n\nCESAR CHAVEZ DAY* \n3/31/2022 \n\n\nMEMORIAL DAY \n5/30/2022 \n\n\nFOURTH OF JULY \n7/4/2022 \n\n\nLABOR DAY \n9/5/2022 \n\n\nVETERAN’S DAY \n11/11/2022 \n\n\nTHANKSGIVING DAY \n11/24/2022 \n\n\nFRIDAY AFTER THANKSGIVING \n11/25/2022 \n\n\nCHRISTMAS DAY \n12/26/2022 \n\n\n\n* Optional Holiday\, not eligible for Double Pay/Holiday Pay. See Agreement for more details.  \n** Holiday with Double Pay for members under the Inside Agreement. Optional Holiday for members under the Sound Agreement\, not eligible for Double Pay/Holiday Pay. See Agreement for more details.
URL:https://www.ibew569.org/calendar/calendar-ibew-569-holiday-labor-day-2/
LOCATION:CA
CATEGORIES:IBEW 569 Members
ATTACH;FMTTYPE=image/png:https://www.ibew569.org/wp-content/uploads/2022/07/ibew_569_union_holiday.png
END:VEVENT
BEGIN:VEVENT
DTSTART;TZID=America/Los_Angeles:20220914T173000
DTEND;TZID=America/Los_Angeles:20220914T173000
DTSTAMP:20260423T212648
CREATED:20220201T211000Z
LAST-MODIFIED:20220914T181951Z
UID:10000569-1663176600-1663176600@www.ibew569.org
SUMMARY:IBEW 569 Union Meeting
DESCRIPTION:Attention IBEW 569 Members: \nCome to our IBEW 569 Union Meeting to stay informed and get involved! We’ll swear-in new members and welcome them to the Union; receive reports on Union actions and activities; conduct Union business; discuss concerns. \nIBEW 569 hosts our Union Meetings simultaneously – in person in San Diego and in Imperial Valley over closed circuit television (CCTV) – and invites our Imperial Valley members to get empowered by participating in our union meetings! \nThis monthly meeting creates an opportunity for both new and experienced membership to come together and get engaged with our local union. \nWHAT: IBEW 569 Union Meeting \nWHEN: Wednesday\, September 14th\, 5:30pm \nWHERE: IBEW 569 Union Halls (4545 Viewridge Avenue\, San Diego\, CA 92123 AND 2420 Imperial Business Park Drive\, Imperial\, CA 92251)
URL:https://www.ibew569.org/calendar/calendar-ibew-569-union-meeting-50/
LOCATION:IBEW 569 San Diego Union Hall\, 4545 Viewridge Ave\, San Diego\, CA\, 92123\, United States
CATEGORIES:IBEW 569 Members
ATTACH;FMTTYPE=image/jpeg:https://www.ibew569.org/wp-content/uploads/2022/02/IBEW-569-Union-Meeting-1.jpg
END:VEVENT
BEGIN:VEVENT
DTSTART;TZID=America/Los_Angeles:20220915T163000
DTEND;TZID=America/Los_Angeles:20220915T163000
DTSTAMP:20260423T212648
CREATED:20220427T011200Z
LAST-MODIFIED:20220712T162713Z
UID:10000507-1663259400-1663259400@www.ibew569.org
SUMMARY:RENEW Meeting
DESCRIPTION:RENEW Monthly Committee meeting Thursdays after the Union Meeting at 4:30pm via Zoom or at the Hall. \nZoom link is: https://us02web.zoom.us/j/83636058758?pwd=THdiNmxQSDhZTEpmTDRsZXF1TElTUT09
URL:https://www.ibew569.org/calendar/calendar-renew-meeting-10/
LOCATION:CA
CATEGORIES:IBEW 569 Members
ATTACH;FMTTYPE=image/png:https://www.ibew569.org/wp-content/uploads/2022/07/screen_shot_2021-10-06_at_4.51.50_pm.png
END:VEVENT
BEGIN:VEVENT
DTSTART;TZID=America/Los_Angeles:20220916T170000
DTEND;TZID=America/Los_Angeles:20220916T170000
DTSTAMP:20260423T212648
CREATED:20220629T000800Z
LAST-MODIFIED:20220712T162711Z
UID:10000615-1663347600-1663347600@www.ibew569.org
SUMMARY:United Sparkies Meeting (IBEW 569 Women's Committee)
DESCRIPTION:Please join us at our monthly United Sparkies general meeting to stay informed and get involved! We will give reports on Sparkies actions and activities; conduct Sparkies business; discuss concerns. \nThe monthly meeting creates opportunity for both new and existing members to come together and keep our women’s committee growing. \nMeetings:     Every month on the Friday after IBEW General Membership meeting. \nContact info for Sparkies: \nUnitedsparkies569@gmail.com \nhttps://www.facebook.com/UnitedSparkies \nhttps://www.instagram.com/unitedsparkies/( \nhttps://twitter.com/UnitedSparkies \nPresident: April Hatton \nVice: Leticia Hernandez \nTreasurer: Jo-Lyn Rupp \nRecording Secretary: Lynn Minor \nPublic Relations: Cristina Marquez
URL:https://www.ibew569.org/calendar/calendar-united-sparkies-meeting-ibew-569-womens-committee-5/
LOCATION:IBEW 569 San Diego Union Hall\, 4545 Viewridge Ave\, San Diego\, CA\, 92123\, United States
CATEGORIES:IBEW 569 Members
ATTACH;FMTTYPE=image/jpeg:https://www.ibew569.org/wp-content/uploads/2022/07/us_logo_no_outline.jpg
END:VEVENT
BEGIN:VEVENT
DTSTART;TZID=America/Los_Angeles:20220924T080000
DTEND;TZID=America/Los_Angeles:20220924T113000
DTSTAMP:20260423T212648
CREATED:20220915T220801Z
LAST-MODIFIED:20220915T221337Z
UID:10000621-1664006400-1664019000@www.ibew569.org
SUMMARY:IBEW 569 Lit Drop - Election Action - South Bay
DESCRIPTION:Join the San Diego County Building Trades this Saturday and make a difference in the lives of working families across our communities – and help elect candidates that support more work for Building Trades members! See you on Saturday! \nRSVP: https://bit.ly/9-24-22-SDBT \nWHAT: SD Building Trades Election Action – Yes on D / Safeguard San Diego Lit Drop and\nHelp Elect Friends of Labor \nWHEN: Saturday\, September 124\, 2022; 8:00 AM – 11:30 AM \nWHERE: Imperial Beach Sports Park\, 425 Imperial Beach Blvd\, Imperial Beach\, CA 91932 \nRSVP: https://bit.ly/9-24-22-SDBT \nContact: Gretchen Newsom\, IBEW 569\, 619-208-4853 cell or gnewsom@ibew569.org \nWe will provide: \n• Training on how to do a lit drop \n• Lunch \n• A raffle for San Diego Building Trades gear\, and more!
URL:https://www.ibew569.org/calendar/ibew-569-lit-drop-election-action-south-bay/
LOCATION:CA
CATEGORIES:Community,IBEW 569 Members,Take Action
ATTACH;FMTTYPE=image/jpeg:https://www.ibew569.org/wp-content/uploads/2022/09/Screen-Shot-2022-09-15-at-3.06.56-PM.jpg
END:VEVENT
BEGIN:VEVENT
DTSTART;TZID=America/Los_Angeles:20220925T080000
DTEND;TZID=America/Los_Angeles:20220925T113000
DTSTAMP:20260423T212648
CREATED:20220915T223245Z
LAST-MODIFIED:20220915T223245Z
UID:10000622-1664092800-1664105400@www.ibew569.org
SUMMARY:IBEW 569 Lit Drop - Safeguard San Diego
DESCRIPTION:Join the San Diego County Building Trades this Sunday and make a difference in the lives of working families across our communities – and help pass Measure D to repeal the PLA Ban in San Diego! \nRSVP: https://bit.ly/9-25-22-SDBT \nWHAT: SD Building Trades Election Action – Yes on D / Safeguard San Diego Campaign Lit Drop \nWHEN: Sunday\, September 25\, 2022; 8:00 AM – 11:30 AM \nWHERE: Golden Hill Park\, 2590-2596 Golden Hill Dr\, San Diego\, CA 92102 \nRSVP: https://bit.ly/9-25-22-SDBT \nContact: Gretchen Newsom\, IBEW 569\, 619-208-4853 cell or gnewsom@ibew569.org \nWe will provide: \n• Training on how to do a lit drop \n• Lunch \n• A raffle for San Diego Building Trades gear\, and more!
URL:https://www.ibew569.org/calendar/ibew-569-lit-drop-safeguard-san-diego/
LOCATION:CA
CATEGORIES:Community,IBEW 569 Members,Take Action
ATTACH;FMTTYPE=image/jpeg:https://www.ibew569.org/wp-content/uploads/2022/09/Screen-Shot-2022-09-15-at-3.21.55-PM.jpg
END:VEVENT
END:VCALENDAR