BEGIN:VCALENDAR
VERSION:2.0
PRODID:-//IBEW International Brotherhood of Electrical Workers Local 569 - ECPv6.15.13//NONSGML v1.0//EN
CALSCALE:GREGORIAN
METHOD:PUBLISH
X-WR-CALNAME:IBEW International Brotherhood of Electrical Workers Local 569
X-ORIGINAL-URL:https://www.ibew569.org
X-WR-CALDESC:Events for IBEW International Brotherhood of Electrical Workers Local 569
REFRESH-INTERVAL;VALUE=DURATION:PT1H
X-Robots-Tag:noindex
X-PUBLISHED-TTL:PT1H
BEGIN:VTIMEZONE
TZID:America/Los_Angeles
BEGIN:DAYLIGHT
TZOFFSETFROM:-0800
TZOFFSETTO:-0700
TZNAME:PDT
DTSTART:20220313T100000
END:DAYLIGHT
BEGIN:STANDARD
TZOFFSETFROM:-0700
TZOFFSETTO:-0800
TZNAME:PST
DTSTART:20221106T090000
END:STANDARD
BEGIN:DAYLIGHT
TZOFFSETFROM:-0800
TZOFFSETTO:-0700
TZNAME:PDT
DTSTART:20230312T100000
END:DAYLIGHT
BEGIN:STANDARD
TZOFFSETFROM:-0700
TZOFFSETTO:-0800
TZNAME:PST
DTSTART:20231105T090000
END:STANDARD
BEGIN:DAYLIGHT
TZOFFSETFROM:-0800
TZOFFSETTO:-0700
TZNAME:PDT
DTSTART:20240310T100000
END:DAYLIGHT
BEGIN:STANDARD
TZOFFSETFROM:-0700
TZOFFSETTO:-0800
TZNAME:PST
DTSTART:20241103T090000
END:STANDARD
END:VTIMEZONE
BEGIN:VEVENT
DTSTART;TZID=America/Los_Angeles:20230429T083000
DTEND;TZID=America/Los_Angeles:20230429T173000
DTSTAMP:20260422T235612
CREATED:20230416T013507Z
LAST-MODIFIED:20230416T013507Z
UID:10000678-1682757000-1682789400@www.ibew569.org
SUMMARY:Progressive Labor Summit 2023
DESCRIPTION:IBEW 569 is sponsoring the Progressive Labor Summit 2023 taking place on April 29th at the Westin San Diego Gaslamp Quarter. \nIt’s a one-day event in San Diego bringing together the Labor community with activists & leaders to empower all working people by building stronger understanding\, knowledge\, skills\, and partnerships to tackle the broader social challenges we are facing today. \nWe have 15 tickets available for IBEW 569 members to attend for free (breakfast\, lunch\, reception\, and t-shirt included!). \nPlease email Gretchen if you are interested in receiving a sponsored ticket: gnewsom@ibew569.org https://fb.me/e/4pVq3UOsh \nPROGRAM* \n8:30 AM – Registration opens; continental breakfast served \n9:00 AM – Plenary session panels \n\nShop Talk: A New Era of Labor Meets A New Generation of Labor Reporting – Paola Rodeles (Jobs to Move America)\, Mel Buer (The Real News)\, Lucy Diavolo (National Nurses United); Moderator: Diana Hussein (UNITE HERE)\nWorkers in the Fight: Personal Stories From Workers Winning in San Diego – David Acosta (Firefighers 2180)\, Ed Figueroa (IATSE 122)\, Hayden Gore (High Tech High Education Collective)\, Ed Wallace (IBEW 569/HoMEwork)\, Andrea Muir (UNAC/UHCP); Moderator: Lorena Gonzalez Fletcher (CA Labor Fed)\n\n12:00 PM – Lunch program \n\nWhose House? Our House: Maximizing Public Benefit from Housing on Public Land – Brigette Browning (San Diego & Imperial Counties Labor Council)\, Todd Gloria (City of San Diego)\, Rudy Gonzalez (San Francisco Building Trades Council)\, Cody Petterson (San Diego Unified School District)\, Jeremy Smith (State Building Trades Council of CA); Moderator: Marcus Bush (City of National City)\n\n1:15 PM – Breakout Sessions\, Round One \n\nYou Say You Got a Real Solution: Turning Vision into Results-Oriented Activism – Khalid Alexander (Pillars of the Community)\, Laila Aziz (Pillars of the Community)\, Gretchen Newsom (IBEW 569); Moderator: Steve Padilla (CA State Senate)\nMeeting Workers Where They Meme: Content Creation To Build Worker Power – Brett Banditelli (Fight for 15/SEIU)\, John “Union Drip” Elward (Teamsters 665)\, Kalina Newman (AFL-CIO)\, Elizabeth Straeter (UFW); Moderator: Diana Hussein (UNITE HERE)\nA Hard Rain’s Gonna Fall: Climate Resiliency *Is* Economic Resiliency – Joe LaCava (San Diego Community Power)\, Cristina Marquez (IBEW 569)\, Norman Rogers (USW 675)\, Veronica Wilson (Labor Network for Sustainability); Moderator: Jim Miller (AFT 1931)\nCommunity Schools to Build Power\, Fight Privatization\, and Transform Public Education – Rosi Martinez (CVE)\, David Goldberg (CTA)\, Esperanza Martinez (UTLA); Moderator: Kyle Weinberg (SDEA)\n“Is This Good?” Breaking Down 2022 Election Results and Opportunities for the Future – Sean Elo-Rivera (City of San Diego)\, Paloma Aguirre (City of Imperial Beach)\, Cipriano Vargas (Vista Unified School Board); Moderator: Eva Posner (Evinco)\n\n2:45 PM – Breakout Sessions\, Round Two \n\nWe’d All Love to See the Plan: Crafting and Passing Worker Policies for a Union San Diego – Raul Campillo (City of San Diego)\, Kyra Greene (Center on Policy Initiatives)\, Lucas O’Connor (Progressive Labor Alliance); Moderator: Satomi Rash-Ziegler (San Diego & Imperial Counties Labor Council)\nNursing Healthcare Back From the Brink: How Workers are Organizing to Improve Care for All – Amy Helton (Scripps Health)\, Izeah Garcia (NUHW); Moderator: Akilah Weber\nImmigrant Solidarity is Worker Solidarity: How Immigration Drives Organizing – Laura Moreno (Pomona Economic Opportunity Center)\, Arcela Nunez (Universidad Popular)\, Christian Ramirez (SEIU-USWW)\, Ian Seruelo (SDIRC/APALA); Moderator: Tom Wong (US Immigration Policy Center)\nWe Build the Middle Class: Building Lasting Careers with Union Apprenticeships – Jason Shanley (HoMEwork)\, Jenifer Arce (Southwestern College ARP)\, Lorenzo Miles (SMART 206)\, Mike Swanson (Ironworkers 229); Moderator: Michael O’Brien (IBEW 569)\nOut of the Cars and Into the Streets: Building Transportation Systems for All – Corinna Contreras (Climate Action Campaign)\, Jose Franco (Environmental Health Coalition)\, Gretchen Newsom (IBEW 569)\, Rosa Olascoaga (County of San Diego); Moderator: Brittany Bailey (City of San Diego)\n\n4:00 PM – Closing Plenary \n4:30 PM – Reception \n*Some panelists pending confirmation
URL:https://www.ibew569.org/calendar/progressive-labor-summit-2023/
LOCATION:CA
CATEGORIES:Community,IBEW 569 Members,Take Action
ATTACH;FMTTYPE=image/jpeg:https://www.ibew569.org/wp-content/uploads/2023/04/319022306_675117854079313_6856718707499412777_n.jpg
END:VEVENT
END:VCALENDAR