BEGIN:VCALENDAR
VERSION:2.0
PRODID:-//IBEW International Brotherhood of Electrical Workers Local 569 - ECPv6.15.13//NONSGML v1.0//EN
CALSCALE:GREGORIAN
METHOD:PUBLISH
X-ORIGINAL-URL:https://www.ibew569.org
X-WR-CALDESC:Events for IBEW International Brotherhood of Electrical Workers Local 569
REFRESH-INTERVAL;VALUE=DURATION:PT1H
X-Robots-Tag:noindex
X-PUBLISHED-TTL:PT1H
BEGIN:VTIMEZONE
TZID:America/Los_Angeles
BEGIN:DAYLIGHT
TZOFFSETFROM:-0800
TZOFFSETTO:-0700
TZNAME:PDT
DTSTART:20220313T100000
END:DAYLIGHT
BEGIN:STANDARD
TZOFFSETFROM:-0700
TZOFFSETTO:-0800
TZNAME:PST
DTSTART:20221106T090000
END:STANDARD
BEGIN:DAYLIGHT
TZOFFSETFROM:-0800
TZOFFSETTO:-0700
TZNAME:PDT
DTSTART:20230312T100000
END:DAYLIGHT
BEGIN:STANDARD
TZOFFSETFROM:-0700
TZOFFSETTO:-0800
TZNAME:PST
DTSTART:20231105T090000
END:STANDARD
BEGIN:DAYLIGHT
TZOFFSETFROM:-0800
TZOFFSETTO:-0700
TZNAME:PDT
DTSTART:20240310T100000
END:DAYLIGHT
BEGIN:STANDARD
TZOFFSETFROM:-0700
TZOFFSETTO:-0800
TZNAME:PST
DTSTART:20241103T090000
END:STANDARD
END:VTIMEZONE
BEGIN:VEVENT
DTSTART;TZID=America/Los_Angeles:20230217T110000
DTEND;TZID=America/Los_Angeles:20230217T140000
DTSTAMP:20260423T032754
CREATED:20230210T001952Z
LAST-MODIFIED:20230210T003238Z
UID:10000663-1676631600-1676642400@www.ibew569.org
SUMMARY:IBEW 569 Retirees Club - Meeting\, Lunch\, & Special Guest
DESCRIPTION:Attention IBEW 569 Retirees. \nPlease join us for our quarterly Retirees’ Club General Membership meeting on Friday\, February 17th at 11:00 am at our Union Hall. \nWe will be serving lunch and have a great speaker\, Richard Lederer. Who in honor of President’s Day will entertaining our club with: \n\nFASCINATING FACTS ABOUT OUR PRESIDENTS Who was our youngest American president? Who was our oldest? Who was our tallest\, shortest\, and fattest? Union-Tribune language columnist and American history quizmaster Richard Lederer will illuminate the feats\, fates\, families\, and firsts of our American presidents. \n\nUnion-Tribune language columnist Richard Lederer is the author of 60 books about language\, history\, and humor\, including his best-selling Anguished English series and his current title\, Lederer’s Language & Laughter. Dr. Lederer has been named International Punster of the Year and Toastmasters International’s Golden Gavel winner. He’ll be signing his books at the luncheon. \nPlease feel free to bring guests. \nRSVP to William Stedham at \nretireesibew569@gmail.com \n858-569-8900 ext. 112
URL:https://www.ibew569.org/calendar/ibew-569-retirees-club-meeting-lunch-special-guest/
LOCATION:IBEW 569 San Diego Union Hall\, 4545 Viewridge Ave\, San Diego\, CA\, 92123\, United States
CATEGORIES:Community,IBEW 569 Members
ATTACH;FMTTYPE=image/jpeg:https://www.ibew569.org/wp-content/uploads/2023/02/Cream-Brown-With-Gold-Aesthetic-Grid-Podcast-Episode-With-Guest-Instagram-Post.jpg
END:VEVENT
BEGIN:VEVENT
DTSTART;TZID=America/Los_Angeles:20230227T150000
DTEND;TZID=America/Los_Angeles:20230227T180000
DTSTAMP:20260423T032754
CREATED:20230211T014340Z
LAST-MODIFIED:20230211T014340Z
UID:10000664-1677510000-1677520800@www.ibew569.org
SUMMARY:IBEW 569 Women in SD - Photoshoot
DESCRIPTION:IBEW 569 is inviting all Women in the Trades to photoshoots and a photo exhibit to present the strength\, grit and character of women in today’s building trades unions! \nMore details on this project: https://bit.ly/TradesWomenPhotoShoot \nPlease share this flyer with our sisters and contact Jennifer Wilson at 619-832-9757 or jwilson@ibew569.org to book their photoshoot session. \nAnd please mark your calendars for the Photo Exhibit “Women in the Trades” on Friday\, March 24th at 5pm in San Diego at IBEW 569\, 4545 Viewridge Avenue\, San Diego\, CA 92123. (More details and separate flyer / invite to come.) \nPhotoshoot – Women in Trades Flyer
URL:https://www.ibew569.org/calendar/ibew-569-women-in-sd-photoshoot/
LOCATION:IBEW 569 San Diego Union Hall\, 4545 Viewridge Ave\, San Diego\, CA\, 92123\, United States
CATEGORIES:Community,IBEW 569 Members
ATTACH;FMTTYPE=image/jpeg:https://www.ibew569.org/wp-content/uploads/2023/02/Photoshoot-Women-in-Trades-Flyer.pdf.jpg
END:VEVENT
END:VCALENDAR