BEGIN:VCALENDAR
VERSION:2.0
PRODID:-//IBEW International Brotherhood of Electrical Workers Local 569 - ECPv6.15.13//NONSGML v1.0//EN
CALSCALE:GREGORIAN
METHOD:PUBLISH
X-WR-CALNAME:IBEW International Brotherhood of Electrical Workers Local 569
X-ORIGINAL-URL:https://www.ibew569.org
X-WR-CALDESC:Events for IBEW International Brotherhood of Electrical Workers Local 569
REFRESH-INTERVAL;VALUE=DURATION:PT1H
X-Robots-Tag:noindex
X-PUBLISHED-TTL:PT1H
BEGIN:VTIMEZONE
TZID:America/Los_Angeles
BEGIN:DAYLIGHT
TZOFFSETFROM:-0800
TZOFFSETTO:-0700
TZNAME:PDT
DTSTART:20220313T100000
END:DAYLIGHT
BEGIN:STANDARD
TZOFFSETFROM:-0700
TZOFFSETTO:-0800
TZNAME:PST
DTSTART:20221106T090000
END:STANDARD
BEGIN:DAYLIGHT
TZOFFSETFROM:-0800
TZOFFSETTO:-0700
TZNAME:PDT
DTSTART:20230312T100000
END:DAYLIGHT
BEGIN:STANDARD
TZOFFSETFROM:-0700
TZOFFSETTO:-0800
TZNAME:PST
DTSTART:20231105T090000
END:STANDARD
BEGIN:DAYLIGHT
TZOFFSETFROM:-0800
TZOFFSETTO:-0700
TZNAME:PDT
DTSTART:20240310T100000
END:DAYLIGHT
BEGIN:STANDARD
TZOFFSETFROM:-0700
TZOFFSETTO:-0800
TZNAME:PST
DTSTART:20241103T090000
END:STANDARD
END:VTIMEZONE
BEGIN:VEVENT
DTSTART;TZID=America/Los_Angeles:20230115T130000
DTEND;TZID=America/Los_Angeles:20230115T170000
DTSTAMP:20260423T050503
CREATED:20221206T192240Z
LAST-MODIFIED:20230111T224624Z
UID:10000655-1673787600-1673802000@www.ibew569.org
SUMMARY:Walk with IBEW 569 / EWMC in the 41st Annual MLK Parade
DESCRIPTION:IBEW 569 and our Electrical Workers Minority Caucus (EWMC) is proud to walk in the 41st Annual MLK Parade and support civil rights and worker rights! Every year\, our members march through downtown San Diego to honor the memory of Martin Luther King Jr. On Sunday\, January 15\, 2023\, EWMC and IBEW 569 of San Diego\, will celebrate one of the most prominent civil rights leaders by participating in the Martin Luther King Jr. Parade. \nOur goal is to have 50+ members this year\, so please share this event with everyone you can. Thank you and we look forward to seeing you there! \nWHAT: Walk with IBEW 569 / EWMC in the 41st Annual MLK Parade \nWHEN: Sunday\, January 15th\, 1:00pm – 5:00pm (includes set-up and staging at 1:00pm\, Parade to commence at 2:00pm; we are anticipated to be done before 5:00pm) \nWHERE: Waterfront Park (North End)\, 1942 N Harbor Dr\, San Diego\, CA 92101 (Look for the 569 Wrap Truck) \nCONTACT: Cristina Marquez\, 619-302-1566 / cmarquez@ibew569.org \nRSVP HERE: https://actionnetwork.org/events/walk-with-ibew-569-ewmc-in-the-41st-annual-mlk-parade/ \nLineup: \nhttps://static1.squarespace.com/static/5fa73ca9bca79b7a702397f0/t/63bc5faf6712cf62dde938a4/1673289647266/2023+MLK+Parade+Line+Up+1-7-22+%28Formatted+Version%29_bes+v1.3.pdf \nParade Route: \nhttps://www.sandiegoalphas.com/mlk-parade \nNotes: The Parade begins on Harbor Drive in front of the County Administration building at 2:00 pm Sunday\, January 15\, 2023. We’ll travel south on Harbor Drive\, Left on Broadway\, and Rt. at Pacific Highway. Total marching distance is 1.2 miles and the Parade route is 24 feet wide. The disbanding area is at Pacific Highway and G Street. \n​ \n​
URL:https://www.ibew569.org/calendar/walk-with-ibew-569-ewmc-in-the-41st-annual-mlk-parade/
LOCATION:MLK Parade Route\, 1901 N Harbor Drive\, San Diego\, 92110\, United States
CATEGORIES:Community,IBEW 569 Members
ATTACH;FMTTYPE=image/jpeg:https://www.ibew569.org/wp-content/uploads/2022/12/MLKParade.jpg
END:VEVENT
BEGIN:VEVENT
DTSTART;TZID=America/Los_Angeles:20230121T080000
DTEND;TZID=America/Los_Angeles:20230121T120000
DTSTAMP:20260423T050503
CREATED:20230118T013936Z
LAST-MODIFIED:20230118T013936Z
UID:10000660-1674288000-1674302400@www.ibew569.org
SUMMARY:Walk with Labor in the MLK Parade
DESCRIPTION:This coming Saturday the Labor Council will be marching in the MLK Parade in celebration. Please reach out to the contact on our flyer if you would like to participate. \n— \nThis is a parking update for the 13th Annual MLK Parade & Celebration on January 21st. We will be marching in the Parade at 9am\, if you would like to attend please be arrive by 8am. (Directions for drop-off below) \n\nDrop-off at VP Elementary School baseball field access from S. Valencia Parkway\nDrivers drop-off then proceed to park at O’Farrell Charter School access from 61st St.\n\n\nFrom Valencia Parkway\, east on Latimer\, east on Flipper and South on 61st St.\n\n\nShuttle van will transport drivers back to the staging area.\n\nPlease arrive in a timely manner so you have time to get the shuttle van back to the school after parking morning of the event.
URL:https://www.ibew569.org/calendar/walk-with-labor-in-the-mlk-parade/
LOCATION:CA
CATEGORIES:Community,IBEW 569 Members
ATTACH;FMTTYPE=image/jpeg:https://www.ibew569.org/wp-content/uploads/2023/01/325770012_3277048792543940_4980251277981312675_n.jpg
END:VEVENT
BEGIN:VEVENT
DTSTART;TZID=America/Los_Angeles:20230129T073000
DTEND;TZID=America/Los_Angeles:20230129T113000
DTSTAMP:20260423T050504
CREATED:20221122T180448Z
LAST-MODIFIED:20221123T010307Z
UID:10000653-1674977400-1674991800@www.ibew569.org
SUMMARY:IBEW 569 at Lung Force 5K Walk 2023
DESCRIPTION:IBEW 569 is strengthening our partnership with the American Lung Association to fight lung cancer\, lung disease and to advance clean air for all with investments in clean transit. \nIBEW 569 is also concerned about our members and families in the Imperial Valley where cases of lung disease and asthma are increasing due to the drying-up of the Salton Sea. We are hopeful that we can work together to invest in Salton Sea solutions\, including geothermal energy. \nJoin IBEW 569 and walk with our team on Sunday\, January 29\, at the LUNG FORCE Walk at the Liberty Station NTC Park\, San Diego\, CA! \nThe LUNG FORCE Walk provides critical funds for lifesaving research\, early detection initiatives\, and awareness outreach to vulnerable communities. \nWHEN: Sunday\, January 29\, 2023 \n\n7:30 am: Check-in\, registration\, festival opens\n9:00 am: 5K Walk starts\n\nWHERE: Liberty Station NTC Park\, 2455 Cushing Rd\, San Diego\, CA 92106 \nSTEP ONE: Click here to join our IBEW 569 Team: https://bit.ly/IBEW569LungForce \nSTEP TWO: [Optional] Raise $100 for the American Lung Association and receive an official Lung Force T-shirt \nSTEP THREE: Wear your light blue IBEW 569 t-shirt to the Lung Force Walk; and bring your friends and family along. (If you need an IBEW 569 t-shirt\, just email your size to Gretchen: gnewsom@ibew569.org.
URL:https://www.ibew569.org/calendar/ibew-569-at-lung-force-5k-walk-2023/
LOCATION:CA
CATEGORIES:Community,IBEW 569 Members,Take Action
ATTACH;FMTTYPE=image/jpeg:https://www.ibew569.org/wp-content/uploads/2022/11/12036525_10153357339554615_6055384645879393720_n.jpeg
END:VEVENT
END:VCALENDAR